Workbook

Sheet Data
A1: Governor | B1: Proposition 1 | C1: Proposition 2 | D1: Proposition 3 | E1: Proposition 4 | F1: Proposition 5 | G1: Proposition 37 | H1: Proposition 38 | I1: Proposition 39 | J1: Proposition 40 | K1: Proposition 41 | L1: Proposition 42 | M1: Proposition 43 | N1: Proposition 44 | O1: Proposition 45

Sheet Results
B2: Governor | C2: No. of Votes
B3: Steve Hilton | Republican | C3: =COUNTIF(Data!A:A,B3) -> 0
B4: Xavier Becerra | Democratic | C4: =COUNTIF(Data!A:A,B4) -> 0
B7: Propositions | C7: No. of Votes | D7: Yes | E7: No
B8: Proposition 1 | C8: =SUM(D8+E8) -> 0 | D8: =COUNTIF(Data!B:B,"Yes") -> 0 | E8: =COUNTIF(Data!B:B,"No") -> 0
B9: Proposition 2 | C9: =SUM(D9+E9) -> 0 | D9: =COUNTIF(Data!C:C,"Yes") -> 0 | E9: =COUNTIF(Data!C:C,"No") -> 0
B10: Proposition 3 | C10: =SUM(D10+E10) -> 0 | D10: =COUNTIF(Data!D:D,"Yes") -> 0 | E10: =COUNTIF(Data!D:D,"No") -> 0
B11: Proposition 4 | C11: =SUM(D11+E11) -> 0 | D11: =COUNTIF(Data!E:E,"Yes") -> 0 | E11: =COUNTIF(Data!E:E,"No") -> 0
B12: Proposition 5 | C12: =SUM(D12+E12) -> 0 | D12: =COUNTIF(Data!F:F,"Yes") -> 0 | E12: =COUNTIF(Data!F:F,"No") -> 0
B13: Proposition 37 | C13: =SUM(D13+E13) -> 0 | D13: =COUNTIF(Data!G:G,"Yes") -> 0 | E13: =COUNTIF(Data!G:G,"No") -> 0
B14: Proposition 38 | C14: =SUM(D14+E14) -> 0 | D14: =COUNTIF(Data!H:H,"Yes") -> 0 | E14: =COUNTIF(Data!H:H,"No") -> 0
B15: Proposition 39 | C15: =SUM(D15+E15) -> 0 | D15: =COUNTIF(Data!I:I,"Yes") -> 0 | E15: =COUNTIF(Data!I:I,"No") -> 0
B16: Proposition 40 | C16: =SUM(D16+E16) -> 0 | D16: =COUNTIF(Data!J:J,"Yes") -> 0 | E16: =COUNTIF(Data!J:J,"No") -> 0
B17: Proposition 41 | C17: =SUM(D17+E17) -> 0 | D17: =COUNTIF(Data!K:K,"Yes") -> 0 | E17: =COUNTIF(Data!K:K,"No") -> 0
B18: Proposition 42 | C18: =SUM(D18+E18) -> 0 | D18: =COUNTIF(Data!L:L,"Yes") -> 0 | E18: =COUNTIF(Data!L:L,"No") -> 0
B19: Proposition 43 | C19: =SUM(D19+E19) -> 0 | D19: =COUNTIF(Data!M:M,"Yes") -> 0 | E19: =COUNTIF(Data!M:M,"No") -> 0
B20: Proposition 44 | C20: =SUM(D20+E20) -> 0 | D20: =COUNTIF(Data!N:N,"Yes") -> 0 | E20: =COUNTIF(Data!N:N,"No") -> 0
B21: Proposition 45 | C21: =SUM(D21+E21) -> 0 | D21: =COUNTIF(Data!O:O,"Yes") -> 0 | E21: =COUNTIF(Data!O:O,"No") -> 0
